Workbook
Name Planilha_1ÁreaTotal: #REF!,#REF!
Name Planilha_1CabGráfico: #REF!
Name Planilha_1TítCols: #REF!,#REF!
Name Planilha_1TítLins: #REF!
Name Planilha_2ÁreaTotal: #REF!,#REF!
Name Planilha_2CabGráfico: #REF!
Name Planilha_2TítCols: #REF!,#REF!
Name Planilha_2TítLins: #REF!
Name Planilha_3ÁreaTotal: #REF!,#REF!
Name Planilha_3CabGráfico: #REF!
Name Planilha_3TítCols: #REF!,#REF!
Name Planilha_3TítLins: #REF!
Name Planilha_4ÁreaTotal: #REF!,#REF!
Name Planilha_4TítCols: #REF!,#REF!

Sheet Anexo 1 - Pessoal U, E, DF e M
A8: MUNICÍPIO DO RIO DE JANEIRO - PODER LEGISLATIVO
A9: CÂMARA MUNICIPAL DO RIO DE JANEIRO
A10: RELATÓRIO DE GESTÃO FISCAL
A11: DEMONSTRATIVO DA DESPESA COM PESSOAL
A12: ORÇAMENTOS FISCAL E DA SEGURIDADE SOCIAL
A13: JANEIRO-2017/DEZEMBRO-2017
A15: RGF - ANEXO 1 (LRF, art. 55, inciso I, alínea "a") | G15: 1
F16: DESPESAS EXECUTADAS
F17: (Últimos 12 Meses)
A18: DESPESA COM PESSOAL | F18: LIQUIDADAS | G18: INSCRITAS EM
G19: RESTOS A PAGAR
G20: NÃO
G21: PROCESSADOS
F22: (a) | G22: (b)
A23: DESPESA BRUTA COM PESSOAL (I) | F23: =SUM(F24:F26) -> 4.5017641e+08 | G23: =SUM(G24:G26) -> 25066703
A24: Pessoal Ativo | F24: 4.5017641e+08 | G24: 25066703
A25: Pessoal Inativo e Pensionistas | F25: 0 | G25: 0
A26: Outras despesas de pessoal decorrentes de contratos de terceirização (§ 1º do art. 18 da LRF) | F26: 0 | G26: 0
A27: DESPESAS NÃO COMPUTADAS (§ 1º do art. 19 da LRF) (II) | F27: =SUM(F28:F31) -> 2636783.6 | G27: =SUM(G28:G31) -> 444147
A28: Indenizações por Demissão e Incentivos à Demissão Voluntária | F28: 0 | G28: 0
A29: Decorrentes de Decisão Judicial de período anterior ao da apuração | F29: 0 | G29: 0
A30: Despesas de Exercícios Anteriores de período anterior ao da apuração | F30: 2636783.6 | G30: 444147
A31: Inativos e Pensionistas com Recursos Vinculados | F31: 0 | G31: 0
A32: DESPESA LÍQUIDA COM PESSOAL (III) = (I - II) | F32: =F23-F27 -> 4.4753963e+08 | G32: =G23-G27 -> 24622556
A34: APURAÇÃO DO CUMPRIMENTO DO LIMITE LEGAL | F34: VALOR | G34: % SOBRE A RCL AJUSTADA
A35: RECEITA CORRENTE LÍQUIDA - RCL (IV) | F35: 1.9555622e+10 | G35: 0
A36: (-) Transferências obrigatórias da União relativas às emendas individuais (V) (§ 13, art. 166 da CF) | F36: 0 | G36: 0
A37: = RECEITA CORRENTE LÍQUIDA AJUSTADA (VI) | F37: 1.9555622e+10 | G37: 0
A38: DESPESA TOTAL COM PESSOAL (VII) = (IIIa+IIIb) | F38: =F32+G32 -> 4.7216218e+08 | G38: =F38/F35 -> 0.024144575
A39: LIMITE MÁXIMO (VIII) (incisos I, II e III, art. 20 da LRF) | F39: =F35*0.0455 -> 8.8978079e+08 | G39: 0.0455
A40: LIMITE PRUDENCIAL (IX) = (0,95x VI) (parágrafo único, art. 22 da LRF) | F40: =F39*0.95 -> 8.4529175e+08 | G40: 0.0432
A41: LIMITE DE ALERTA (X) = (0,90 x VI) (inciso II do § 1º do art. 59 da LRF) | F41: =F39*0.9 -> 8.0080271e+08 | G41: 0.041
A42: FONTE: CONTADORIA-GERAL/CMRJ
A47: Lilian Ferreira Pinto | B47: Rafael Cabral Ribeiro | F47: Vinicius Costa Rocha Viana
A48: Diretora de Finanças | B48: Contador-Geral | E48: Controlador-Geral
A54: MESA DIRETORA
A58: JORGE FELIPPE
A59: Presidente
A62: TÂNIA BASTOS | E62: ZICO
A63: 1º Vice-Presidente | B63: 2º Vice-Presidente | E63: 2º Vice-Presidente
...

Sheet ANEXO V
A8: MUNICÍPIO DO RIO DE JANEIRO - PODER LEGISLATIVO
A9: CÂMARA MUNICIPAL DO RIO DE JANEIRO
A10: RELATÓRIO DE GESTÃO FISCAL
A11: DEMONSTRATIVO DA DISPONIBILIDADE DE CAIXA E DOS RESTOS A PAGAR
A12: ORÇAMENTOS FISCAL E DA SEGURIDADE SOCIAL
A13: JANEIRO-2017/DEZEMBRO-2017
A15: RGF – ANEXO 5 (LRF, art. 55, Inciso III, alínea "a") | J15: 1
A16: IDENTIFICAÇÃO DOS RECURSOS | B16: DISPONIBILIDADE DE CAIXA BRUTA | C16: OBRIGAÇÕES FINANCEIRAS | G16: INSUFICIÊNCIA FINANCEIRA VERIFICADA NO CONSÓRCIO PÚBLICO | H16: DISPONIBILIDADE DE CAIXA LÍQUIDA (ANTES DA INSCRIÇÃO EM RESTOS A PAGAR NÃO PROCESSADOS DO EXERCÍCIO) | I16: RESTOS A PAGAR EMPENHADOS E NÃO LIQUIDADOS DO EXERCÍCIO | J16: EMPENHOS NÃO LIQUIDADOS CANCELADOS (NÃO INSCRITOS POR INSUFICIÊNCIA FINANCEIRA)
C17: Restos a Pagar Liquidados e Não Pagos | E17: Restos a Pagar Empenhados e Não Liquidados de Exercícios Anteriores | F17: Demais Obrigaçôes Financeiras
C18: De Exercícios Anteriores | D18: Do Exercício
B19: (a) | C19: (b) | D19: (c) | E19: (d) | F19: (e) | G19: (f) | H19: (g) = (a – (b + c + d + e)-f)
A20: TOTAL DOS RECURSOS VINCULADOS (I) | B20: =B22 -> 86864740 | C20: 0 | D20: 0 | E20: =E22 -> 218639.47 | F20: 0 | H20: =H22 -> 86646101 | I20: =I22 -> 29193383 | J20: 0
A22: FECMRJ | B22: 86864740 | C22: 0 | D22: 0 | E22: 218639.47 | F22: 0 | H22: =B22-E22 -> 86646101 | I22: 29193383 | J22: 0
A24: TOTAL DOS RECURSOS NÃO VINCULADOS (II) | B24: =B26 -> 41025646 | C24: =C26 -> 108459.37 | D24: =D26 -> 325206.59 | E24: =E26 -> 2066831 | F24: =F26 -> 2955915.2 | H24: =H26 -> 35569233 | I24: =I26 -> 31212590 | J24: 0
A26: CMRJ | B26: 41025646 | C26: =3232.18+99479.15+5748.04 -> 108459.37 | D26: 325206.59 | E26: =77536.6+10401.62+661900.36+1316992.43 -> 2066831 | F26: 2955915.2 | H26: =B26-C26-D26-E26-F26 -> 35569233 | I26: 31212590 | J26: 0
A28: TOTAL (III) = (I + II) | B28: =B24+B20 -> 1.2789039e+08 | C28: =C26+C22 -> 108459.37 | D28: =D26+D22 -> 325206.59 | E28: =E26+E22 -> 2285470.5 | F28: =F26 -> 2955915.2 | H28: =H20+H24 -> 1.2221533e+08 | I28: =I24+I20 -> 60405973 | J28: 0
A29: FONTE: CONTADORIA-GERAL/CMRJ
A33: Rafael Cabral Ribeiro
A34: Contador Geral
A36: Lilian Ferreira Pinto | D36: Vinicius Costa Rocha Viana
A37: Diretora de Finanças | D37: Controle Interno
A40: MESA DIRETORA
A44: JORGE FELIPPE
A45: Presidente
A48: TÂNIA BASTOS | D48: ZICO
A49: 1º Vice-Presidente | D49: 2º Vice-Presidente
A53: CARLO CAIADO
A54: 1º Secretário
A59: CLÁUDIO CASTRO
A60: 2º Secretário

Sheet ANEXO VII
A8: MUNICÍPIO DO RIO DE JANEIRO - PODER LEGISLATIVO
A9: CÂMARA MUNICIPAL DO RIO DE JANEIRO
A10: RELATÓRIO DE GESTÃO FISCAL
A11: DEMONSTRATIVO SIMPLIFICADO DO RELATÓRIO DE GESTÃO FISCAL
A12: ORÇAMENTOS FISCAL E DA SEGURIDADE SOCIAL
A13: JANEIRO-2017/DEZEMBRO-2017
A15: LRF, art. 48 - Anexo 6 | C15: 1
A16: RECEITA CORRENTE LÍQUIDA | B16: VALOR ATÉ O BIMESTRE
A17: Receita Corrente líquida | B17: ='Anexo 1 - Pessoal U, E, DF e M'!F35 -> 1.9555622e+10
A19: DESPESA COM PESSOAL | B19: VALOR | C19: % SOBRE A RCL
A20: Despesa Total com Pessoal - DTP | B20: ='Anexo 1 - Pessoal U, E, DF e M'!F38 -> 4.7216218e+08 | C20: =B20/B17 -> 0.024144575
A21: Limite Máximo (incisos I, II e III, art. 20 da LRF) - <%> | B21: ='Anexo 1 - Pessoal U, E, DF e M'!F39 -> 8.8978079e+08 | C21: =B21/B17 -> 0.0455
A22: Limite Prudencial (parágrafo único, art. 22 da LRF) - <%> | B22: ='Anexo 1 - Pessoal U, E, DF e M'!F40 -> 8.4529175e+08 | C22: =B22/B17 -> 0.043225
A24: RESTOS A PAGAR | B24: INSCRIÇÃO EM RESTOS A PAGAR NÃO PROCESSADOS DO EXERCÍCIO | C24: DISPONIBILIDADE DE CAIXA LÍQUIDA (ANTES DA INSCRIÇÃO EM RESTOS A PAGAR NÃO PROCESSADOS DO EXERCÍCIO)
C25: EM RESTOS A PAGAR NÃO PROCESSADOS
A26: Valor Total | B26: ='ANEXO V'!I28 -> 60405973 | C26: ='ANEXO V'!H28 -> 1.2221533e+08
A27: FONTE: CONTADORIA-GERAL/CMRJ
A31: Rafael Cabral Ribeiro
A32: Contador Geral
A34: Lilian Ferreira Pinto | C34: Vinicius Costa Rocha Viana
A35: Diretora de Finanças | C35: Controle Interno
A39: MESA DIRETORA
A43: JORGE FELIPPE
A44: Presidente
A47: TÂNIA BASTOS | C47: ZICO
A48: 1º Vice-Presidente | C48: 2º Vice-Presidente
A52: CARLO CAIADO
A53: 1º Secretário
A58: CLÁUDIO CASTRO
A59: 2º Secretário
