Workbook
Name Planilha_1ÁreaTotal: #REF!,#REF!
Name Planilha_1ÁreaTotal: #REF!,#REF!
Name Planilha_1CabGráfico: #REF!
Name Planilha_1CabGráfico: #REF!
Name Planilha_1TítCols: #REF!,#REF!
Name Planilha_1TítCols: #REF!,#REF!
Name Planilha_1TítLins: #REF!
Name Planilha_1TítLins: #REF!
Name Planilha_2ÁreaTotal: #REF!,#REF!
Name Planilha_2ÁreaTotal: #REF!,#REF!
Name Planilha_2CabGráfico: #REF!
Name Planilha_2CabGráfico: #REF!
Name Planilha_2TítCols: #REF!,#REF!
Name Planilha_2TítCols: #REF!,#REF!
Name Planilha_2TítLins: #REF!
Name Planilha_2TítLins: #REF!
Name Planilha_3ÁreaTotal: #REF!,#REF!
Name Planilha_3ÁreaTotal: #REF!,#REF!
Name Planilha_3CabGráfico: #REF!
Name Planilha_3CabGráfico: #REF!
Name Planilha_3TítCols: #REF!,#REF!
Name Planilha_3TítCols: #REF!,#REF!
Name Planilha_3TítLins: #REF!
Name Planilha_3TítLins: #REF!
Name Planilha_4ÁreaTotal: #REF!,#REF!
Name Planilha_4ÁreaTotal: #REF!,#REF!
Name Planilha_4TítCols: #REF!,#REF!
Name Planilha_4TítCols: #REF!,#REF!

Sheet Anexo 1 - Pessoal U, E, DF  (2)
A8: MUNICÍPIO DO RIO DE JANEIRO - PODER LEGISLATIVO
A9: CÂMARA MUNICIPAL DO RIO DE JANEIRO
A10: RELATÓRIO DE GESTÃO FISCAL
A11: DEMONSTRATIVO DA DESPESA COM PESSOAL
A12: ORÇAMENTOS FISCAL E DA SEGURIDADE SOCIAL
A13: SETEMBRO-2015/AGOSTO-2016
A15: RGF - ANEXO 1 (LRF, art. 55, inciso I, alínea "a") | G15: 1
F16: DESPESAS EXECUTADAS
F17: (Últimos 12 Meses)
A18: DESPESA COM PESSOAL | F18: LIQUIDADAS | G18: INSCRITAS EM
G19: RESTOS A PAGAR
G20: NÃO
G21: PROCESSADOS
F22: (a) | G22: (b)
A23: DESPESA BRUTA COM PESSOAL (I) | F23: =SUM(F24:F26) -> 4.2586903e+08 | G23: =SUM(G24:G26) -> 9010745
A24: Pessoal Ativo | F24: 4.2586903e+08 | G24: 9010745
A25: Pessoal Inativo e Pensionistas | F25: 0 | G25: 0
A26: Outras despesas de pessoal decorrentes de contratos de terceirização (§ 1º do art. 18 da LRF) | F26: 0 | G26: 0
A27: DESPESAS NÃO COMPUTADAS (§ 1º do art. 19 da LRF) (II) | F27: =SUM(F28:F31) -> 822746.23 | G27: =SUM(G28:G31) -> 248115.23
A28: Indenizações por Demissão e Incentivos à Demissão Voluntária | F28: 0 | G28: 0
A29: Decorrentes de Decisão Judicial de período anterior ao da apuração | F29: 0 | G29: 0
A30: Despesas de Exercícios Anteriores de período anterior ao da apuração | F30: 822746.23 | G30: 248115.23
A31: Inativos e Pensionistas com Recursos Vinculados | F31: 0 | G31: 0
A32: DESPESA LÍQUIDA COM PESSOAL (III) = (I - II) | F32: =F23-F27 -> 4.2504628e+08 | G32: =G23-G27 -> 8762629.7
A34: APURAÇÃO DO CUMPRIMENTO DO LIMITE LEGAL | F34: VALOR | G34: % SOBRE A RCL
A35: RECEITA CORRENTE LÍQUIDA - RCL (IV) | F35: 2.1020442e+10 | G35: 0
A36: DESPESA TOTAL COM PESSOAL (V) = (IIIa+IIIb) | F36: =F32+G32 -> 4.3380891e+08 | G36: =F36/F35 -> 0.020637478
A37: LIMITE MÁXIMO (VI) (incisos I, II e III, art. 20 da LRF) | F37: =F35*0.0455 -> 9.5643012e+08 | G37: 0.0455
A38: LIMITE PRUDENCIAL (VII) = (0,95x VI) (parágrafo único, art. 22 da LRF) | F38: =F37*0.95 -> 9.0860862e+08 | G38: 0.0432
A39: LIMITE DE ALERTA (VIII) = (0,90 x VI) (inciso II do § 1º do art. 59 da LRF) | F39: =F37*0.9 -> 8.6078711e+08 | G39: 0.041
A40: FONTE: CONTADORIA-GERAL/CMRJ
A41: 1. Nos demonstrativos elaborados no primeiro e no segundo quadrimestre de cada exercício, os valores de restos a pagar não processados inscritos em 31 de dezembro do exercício anterior continuarão a ser informados nesse campo. Esses valores não sofrem alteração pelo seu processamento, e somente no caso de cancelamento podem ser excluídos.
A46: Lilian Ferreira Pinto | B46: Celso Valentim Mendes da Costa | F46: Alexandre Teshima
A47: Diretora de Finanças | B47: Contadoria Geral | E47: Controlador-Geral
A53: MESA DIRETORA
A57: JORGE FELIPPE
A58: Presidente
A61: CARLO CAIADO | E61: RENATO MOURA
A62: 1º Vice-Presidente | B62: 2º Vice-Presidente | E62: 2º Vice-Presidente
A66: PROF. UOSTON
...

Sheet Anexo 1 - Pessoal U, E, DF e M
A8: MUNICÍPIO DO RIO DE JANEIRO - PODER LEGISLATIVO
A9: CÂMARA MUNICIPAL DO RIO DE JANEIRO
A10: RELATÓRIO DE GESTÃO FISCAL
A11: DEMONSTRATIVO DA DESPESA COM PESSOAL
A12: ORÇAMENTOS FISCAL E DA SEGURIDADE SOCIAL
A13: MAIO-2015/ABRIL-2016
A15: RGF - ANEXO 1 (LRF, art. 55, inciso I, alínea "a") | G15: 1
F16: DESPESAS EXECUTADAS
F17: (Últimos 12 Meses)
A18: DESPESA COM PESSOAL | F18: LIQUIDADAS | G18: INSCRITAS EM
G19: RESTOS A PAGAR
G20: NÃO
G21: PROCESSADOS
F22: (a) | G22: (b)
A23: DESPESA BRUTA COM PESSOAL (I) | F23: =SUM(F24:F26) -> 4.0088259e+08 | G23: =SUM(G24:G26) -> 9010745
A24: Pessoal Ativo | F24: 4.0088259e+08 | G24: 9010745
A25: Pessoal Inativo e Pensionistas | F25: 0 | G25: 0
A26: Outras despesas de pessoal decorrentes de contratos de terceirização (§ 1º do art. 18 da LRF) | F26: 0 | G26: 0
A27: DESPESAS NÃO COMPUTADAS (§ 1º do art. 19 da LRF) (II) | F27: =SUM(F28:F31) -> 712512.7 | G27: =SUM(G28:G31) -> 248115.23
A28: Indenizações por Demissão e Incentivos à Demissão Voluntária | F28: 0 | G28: 0
A29: Decorrentes de Decisão Judicial de período anterior ao da apuração | F29: 0 | G29: 0
A30: Despesas de Exercícios Anteriores de período anterior ao da apuração | F30: 712512.7 | G30: 248115.23
A31: Inativos e Pensionistas com Recursos Vinculados | F31: 0 | G31: 0
A32: DESPESA LÍQUIDA COM PESSOAL (III) = (I - II) | F32: =F23-F27 -> 4.0017008e+08 | G32: =G23-G27 -> 8762629.7
A34: APURAÇÃO DO CUMPRIMENTO DO LIMITE LEGAL | F34: VALOR | G34: % SOBRE A RCL
A35: RECEITA CORRENTE LÍQUIDA - RCL (IV) | F35: 2.0850243e+10 | G35: 0
A36: DESPESA TOTAL COM PESSOAL (V) = (IIIa+IIIb) | F36: =F32+G32 -> 4.0893271e+08 | G36: =F36/F35 -> 0.019612851
A37: LIMITE MÁXIMO (VI) (incisos I, II e III, art. 20 da LRF) | F37: =F35*0.0455 -> 9.4868605e+08 | G37: 0.0455
A38: LIMITE PRUDENCIAL (VII) = (0,95x VI) (parágrafo único, art. 22 da LRF) | F38: =F37*0.95 -> 9.0125175e+08 | G38: 0.0432
A39: LIMITE DE ALERTA (VIII) = (0,90 x VI) (inciso II do § 1º do art. 59 da LRF) | F39: =F37*0.9 -> 8.5381745e+08 | G39: 0.041
A40: FONTE: CONTADORIA-GERAL/CMRJ
A41: 1. Nos demonstrativos elaborados no primeiro e no segundo quadrimestre de cada exercício, os valores de restos a pagar não processados inscritos em 31 de dezembro do exercício anterior continuarão a ser informados nesse campo. Esses valores não sofrem alteração pelo seu processamento, e somente no caso de cancelamento podem ser excluídos.
A46: Lilian Ferreira Pinto | B46: Rafael Cabral Ribeiro | F46: Alexandre Teshima
A47: Diretora de Finanças | B47: Contador-Geral | E47: Controlador-Geral
A53: MESA DIRETORA
A57: JORGE FELIPPE
A58: Presidente
A61: CARLO CAIADO | E61: RENATO MOURA
A62: 1º Vice-Presidente | B62: 2º Vice-Presidente | E62: 2º Vice-Presidente
A66: PROF. UOSTON
...

Sheet ANEXO V
A8: MUNICÍPIO DO RIO DE JANEIRO - PODER LEGISLATIVO
A9: CÂMARA MUNICIPAL DO RIO DE JANEIRO
A10: RELATÓRIO DE GESTÃO FISCAL
A11: DEMONSTRATIVO DA DISPONIBILIDADE DE CAIXA E DOS RESTOS A PAGAR
A12: ORÇAMENTOS FISCAL E DA SEGURIDADE SOCIAL
A13: JANEIRO-2015/DEZEMBRO-2015
A15: RGF – ANEXO 5 (LRF, art. 55, Inciso III, alínea "a") | I15: 1
A16: IDENTIFICAÇÃO DOS RECURSOS | B16: DISPONIBILIDADE DE CAIXA BRUTA | C16: OBRIGAÇÕES FINANCEIRAS | G16: DISPONIBILIDADE DE CAIXA LÍQUIDA (ANTES DA INSCRIÇÃO EM RESTOS A PAGAR NÃO PROCESSADOS DO EXERCÍCIO) | H16: RESTOS A PAGAR EMPENHADOS E NÃO LIQUIDADOS DO EXERCÍCIO | I16: EMPENHOS NÃO LIQUIDADOS CANCELADOS (NÃO INSCRITOS POR INSUFICIÊNCIA FINANCEIRA)
C17: Restos a Pagar Liquidados e Não Pagos | E17: Restos a Pagar Empenhados e Não Liquidados de Exercícios Anteriores | F17: Demais Obrigaçôes Financeiras
C18: De Exercícios Anteriores | D18: Do Exercício
B19: (a) | C19: (b) | D19: (c) | E19: (d) | F19: (e) | G19: (f) = (a – (b + c + d + e))
A20: TOTAL DOS RECURSOS VINCULADOS (I) | B20: =B22 -> 50894733 | C20: 0 | D20: 0 | E20: =E22 -> 191966.49 | F20: 0 | G20: =G22 -> 50702767 | H20: =H22 -> 21388.41 | I20: 0
A22: FECMRJ | B22: 50894733 | C22: 0 | D22: 0 | E22: =80825.01+111141.48 -> 191966.49 | F22: 0 | G22: =B22-E22 -> 50702767 | H22: 21388.41 | I22: 0
A24: TOTAL DOS RECURSOS NÃO VINCULADOS (II) | B24: =B26 -> 84330917 | C24: 0 | D24: 0 | E24: =E26 -> 21678075 | F24: =F26 -> 3180557.2 | G24: =G26 -> 59472285 | H24: =H26 -> 18313090 | I24: 0
A26: CMRJ | B26: 84330917 | C26: 0 | D26: 0 | E26: =9152+8578.17+2737252.13+18923093.07 -> 21678075 | F26: =52805.61+131547.6+1186526.1+855429.26+952533.66+1714.92 -> 3180557.2 | G26: =B26-E26-F26 -> 59472285 | H26: 18313090 | I26: 0
A28: TOTAL (III) = (I + II) | B28: =B24+B20 -> 1.3522565e+08 | C28: 0 | D28: 0 | E28: =E26+E22 -> 21870042 | F28: =F26 -> 3180557.2 | G28: =G24+G20 -> 1.1017505e+08 | H28: =H24+H20 -> 18334478 | I28: 0
A30: REGIME PRÓPRIO DE PREVIDÊNCIA DOS SERVIDORES
A31: FONTE: CONTADORIA-GERAL/CMRJ
A35: Rafael Cabral Ribeiro
A36: Contador Geral
A38: Lilian Ferreira Pinto | D38: Alexandre Teshima
A39: Diretora de Finanças | D39: Controlador-Geral
A42: MESA DIRETORA
A46: JORGE FELIPPE
A47: Presidente
A50: CARLO CAIADO | D50: RENATO MOURA
A51: 1º Vice-Presidente | D51: 2º Vice-Presidente
A55: PROF. UOSTON
A56: 1º Secretário
A61: LAURA CARNEIRO
A62: 2º Secretário

Sheet ANEXO VII
A8: MUNICÍPIO DO RIO DE JANEIRO - PODER LEGISLATIVO
A9: CÂMARA MUNICIPAL DO RIO DE JANEIRO
A10: RELATÓRIO DE GESTÃO FISCAL
A11: DEMONSTRATIVO SIMPLIFICADO DO RELATÓRIO DE GESTÃO FISCAL
A12: ORÇAMENTOS FISCAL E DA SEGURIDADE SOCIAL
A13: JANEIRO-2015/DEZEMBRO-2015
A15: LRF, art. 48 - Anexo 6 | C15: 1
A16: RECEITA CORRENTE LÍQUIDA | B16: VALOR ATÉ O BIMESTRE
A17: Receita Corrente líquida | B17: ='Anexo 1 - Pessoal U, E, DF e M'!F35 -> 2.0850243e+10
A19: DESPESA COM PESSOAL | B19: VALOR | C19: % SOBRE A RCL
A20: Despesa Total com Pessoal - DTP | B20: ='Anexo 1 - Pessoal U, E, DF e M'!F36 -> 4.0893271e+08 | C20: =B20/B17 -> 0.019612851
A21: Limite Máximo (incisos I, II e III, art. 20 da LRF) - <%> | B21: ='Anexo 1 - Pessoal U, E, DF e M'!F37 -> 9.4868605e+08 | C21: =B21/B17 -> 0.0455
A22: Limite Prudencial (parágrafo único, art. 22 da LRF) - <%> | B22: ='Anexo 1 - Pessoal U, E, DF e M'!F38 -> 9.0125175e+08 | C22: =B22/B17 -> 0.043225
A24: RESTOS A PAGAR | B24: INSCRIÇÃO EM RESTOS A PAGAR NÃO PROCESSADOS DO EXERCÍCIO | C24: DISPONIBILIDADE DE CAIXA LÍQUIDA (ANTES DA INSCRIÇÃO EM RESTOS A PAGAR NÃO PROCESSADOS DO EXERCÍCIO)
C25: EM RESTOS A PAGAR NÃO PROCESSADOS
A26: Valor Total | B26: ='ANEXO V'!H28 -> 18334478 | C26: ='ANEXO V'!G28 -> 1.1017505e+08
A27: FONTE: CONTADORIA-GERAL/CMRJ
A31: Rafael Cabral Ribeiro
A32: Contador Geral
A34: Lilian Ferreira Pinto | C34: Alexandre Teshima
A35: Diretora de Finanças | C35: Controlador-Geral
A39: MESA DIRETORA
A43: JORGE FELIPPE
A44: Presidente
A47: CARLO CAIADO | C47: RENATO MOURA
A48: 1º Vice-Presidente | C48: 2º Vice-Presidente
A52: PROF. UOSTON
A53: 1º Secretário
A58: LAURA CARNEIRO
A59: 2º Secretário
